BEGIN:VCALENDAR
VERSION:2.0
PRODID:-//https://www.kiga-essleben.de///NONSGML kigkonsult.se iCalcreator 2.10.15//
METHOD:PUBLISH
BEGIN:VEVENT
UID:20260421T172427CEST-7199Ud0GXI@https://www.kiga-essleben.de/
DTSTAMP:20260421T152427Z
DESCRIPTION: https://www.kiga-essleben.de/aktuelles/kalender/event/167-schu
 lanmeldung-in-schleerieth-ab-14-uhr
DTSTART;VALUE=DATE:20220322
LOCATION:Grundschule Schleerieth ()
SUMMARY:Schulanmeldung in Schleerieth ab 14 Uhr
URL:https://www.kiga-essleben.de/aktuelles/kalender/event/167-schulanmeldun
 g-in-schleerieth-ab-14-uhr
END:VEVENT
END:VCALENDAR
