BEGIN:VCALENDAR
VERSION:2.0
PRODID:-//https://www.kiga-essleben.de///NONSGML kigkonsult.se iCalcreator 2.10.15//
METHOD:PUBLISH
BEGIN:VEVENT
UID:20260420T095114CEST-0883TcUnZv@https://www.kiga-essleben.de/
DTSTAMP:20260420T075114Z
DESCRIPTION: https://www.kiga-essleben.de/aktuelles/kalender/event/200-absc
 hlussgottesdienst-10-30-uhr-im-kindergarten-nur-für-vorschuleltern
DTSTART;VALUE=DATE:20220729
LOCATION:Kindergarten St. Georg (Kindergartenweg 3\, 97440 Werneck\, Deutsc
 hland)
SUMMARY:Abschlussgottesdienst 10.30 Uhr im Kindergarten - Nur für Vorschule
 ltern !!!
URL:https://www.kiga-essleben.de/aktuelles/kalender/event/200-abschlussgott
 esdienst-10-30-uhr-im-kindergarten-nur-für-vorschuleltern
END:VEVENT
END:VCALENDAR
